BEGIN:VCALENDAR
VERSION:2.0
PRODID:-//Vic Johnston Community Centre - ECPv6.15.20//NONSGML v1.0//EN
CALSCALE:GREGORIAN
METHOD:PUBLISH
X-WR-CALNAME:Vic Johnston Community Centre
X-ORIGINAL-URL:https://vicjohnston.ca
X-WR-CALDESC:Events for Vic Johnston Community Centre
REFRESH-INTERVAL;VALUE=DURATION:PT1H
X-Robots-Tag:noindex
X-PUBLISHED-TTL:PT1H
BEGIN:VTIMEZONE
TZID:America/Toronto
BEGIN:DAYLIGHT
TZOFFSETFROM:-0500
TZOFFSETTO:-0400
TZNAME:EDT
DTSTART:20210314T070000
END:DAYLIGHT
BEGIN:STANDARD
TZOFFSETFROM:-0400
TZOFFSETTO:-0500
TZNAME:EST
DTSTART:20211107T060000
END:STANDARD
BEGIN:DAYLIGHT
TZOFFSETFROM:-0500
TZOFFSETTO:-0400
TZNAME:EDT
DTSTART:20220313T070000
END:DAYLIGHT
BEGIN:STANDARD
TZOFFSETFROM:-0400
TZOFFSETTO:-0500
TZNAME:EST
DTSTART:20221106T060000
END:STANDARD
BEGIN:DAYLIGHT
TZOFFSETFROM:-0500
TZOFFSETTO:-0400
TZNAME:EDT
DTSTART:20230312T070000
END:DAYLIGHT
BEGIN:STANDARD
TZOFFSETFROM:-0400
TZOFFSETTO:-0500
TZNAME:EST
DTSTART:20231105T060000
END:STANDARD
END:VTIMEZONE
BEGIN:VEVENT
DTSTART;TZID=America/Toronto:20221117T130000
DTEND;TZID=America/Toronto:20221117T143000
DTSTAMP:20260420T115155
CREATED:20221025T151420Z
LAST-MODIFIED:20221025T151521Z
UID:10000096-1668690000-1668695400@vicjohnston.ca
SUMMARY:Parent with Tot and Senior Free skate
DESCRIPTION:If you are a parent or caregiver with a tot (s) or a Senior with nothing to do on a Thursday\, come on out from 1-2:30pm.  Would love to see you. \nCome on down and skate with us!
URL:https://vicjohnston.ca/event/parent-with-tot-and-senior-free-skate-2/2022-11-17/
CATEGORIES:Community Events
END:VEVENT
BEGIN:VEVENT
DTSTART;TZID=America/Toronto:20221113T113000
DTEND;TZID=America/Toronto:20221113T130000
DTSTAMP:20260420T115155
CREATED:20220902T133930Z
LAST-MODIFIED:20221212T141815Z
UID:10000068-1668339000-1668344400@vicjohnston.ca
SUMMARY:Public Skating
DESCRIPTION:https://vicjohnston.ca/wp-content/uploads/2022/09/PUBLIC-SKATING-IS-BACKKKKKKKKKK-1130am-100pm-SUNDAYS-Woooooohooooooo.mp4
URL:https://vicjohnston.ca/event/public-skating-3/2022-11-13/
CATEGORIES:Community Events
END:VEVENT
BEGIN:VEVENT
DTSTART;TZID=America/Toronto:20221110T130000
DTEND;TZID=America/Toronto:20221110T143000
DTSTAMP:20260420T115155
CREATED:20221025T151420Z
LAST-MODIFIED:20221025T151521Z
UID:10000095-1668085200-1668090600@vicjohnston.ca
SUMMARY:Parent with Tot and Senior Free skate
DESCRIPTION:If you are a parent or caregiver with a tot (s) or a Senior with nothing to do on a Thursday\, come on out from 1-2:30pm.  Would love to see you. \nCome on down and skate with us!
URL:https://vicjohnston.ca/event/parent-with-tot-and-senior-free-skate-2/2022-11-10/
CATEGORIES:Community Events
END:VEVENT
BEGIN:VEVENT
DTSTART;TZID=America/Toronto:20221107T113000
DTEND;TZID=America/Toronto:20221107T130000
DTSTAMP:20260420T115155
CREATED:20220902T133930Z
LAST-MODIFIED:20221212T141815Z
UID:10000067-1667820600-1667826000@vicjohnston.ca
SUMMARY:Public Skating
DESCRIPTION:https://vicjohnston.ca/wp-content/uploads/2022/09/PUBLIC-SKATING-IS-BACKKKKKKKKKK-1130am-100pm-SUNDAYS-Woooooohooooooo.mp4
URL:https://vicjohnston.ca/event/public-skating-3/2022-11-07/
CATEGORIES:Community Events
END:VEVENT
BEGIN:VEVENT
DTSTART;TZID=America/Toronto:20221103T130000
DTEND;TZID=America/Toronto:20221103T143000
DTSTAMP:20260420T115155
CREATED:20221025T151420Z
LAST-MODIFIED:20221025T151521Z
UID:10000094-1667480400-1667485800@vicjohnston.ca
SUMMARY:Parent with Tot and Senior Free skate
DESCRIPTION:If you are a parent or caregiver with a tot (s) or a Senior with nothing to do on a Thursday\, come on out from 1-2:30pm.  Would love to see you. \nCome on down and skate with us!
URL:https://vicjohnston.ca/event/parent-with-tot-and-senior-free-skate-2/2022-11-03/
CATEGORIES:Community Events
END:VEVENT
BEGIN:VEVENT
DTSTART;TZID=America/Toronto:20221027T130000
DTEND;TZID=America/Toronto:20221027T143000
DTSTAMP:20260420T115155
CREATED:20221025T151420Z
LAST-MODIFIED:20221025T151521Z
UID:10000093-1666875600-1666881000@vicjohnston.ca
SUMMARY:Parent with Tot and Senior Free skate
DESCRIPTION:If you are a parent or caregiver with a tot (s) or a Senior with nothing to do on a Thursday\, come on out from 1-2:30pm.  Would love to see you. \nCome on down and skate with us!
URL:https://vicjohnston.ca/event/parent-with-tot-and-senior-free-skate-2/2022-10-27/
CATEGORIES:Community Events
END:VEVENT
BEGIN:VEVENT
DTSTART;TZID=America/Toronto:20221021T180000
DTEND;TZID=America/Toronto:20221021T220000
DTSTAMP:20260420T115155
CREATED:20220921T171330Z
LAST-MODIFIED:20220921T171330Z
UID:10000089-1666375200-1666389600@vicjohnston.ca
SUMMARY:Mystic Night Market
DESCRIPTION:Mystic Night Market
URL:https://vicjohnston.ca/event/mystic-night-market/
CATEGORIES:Community Events
END:VEVENT
BEGIN:VEVENT
DTSTART;TZID=America/Toronto:20221015T100000
DTEND;TZID=America/Toronto:20221016T180000
DTSTAMP:20260420T115155
CREATED:20221006T171929Z
LAST-MODIFIED:20221006T171929Z
UID:10000090-1665828000-1665943200@vicjohnston.ca
SUMMARY:hello Local Presents Streetsville's Annual Fall Market
DESCRIPTION:
URL:https://vicjohnston.ca/event/hello-local-presents-streetsvilles-annual-fall-market/
CATEGORIES:Community Events
END:VEVENT
BEGIN:VEVENT
DTSTART;TZID=America/Toronto:20221006T130000
DTEND;TZID=America/Toronto:20221006T143000
DTSTAMP:20260420T115155
CREATED:20221025T150833Z
LAST-MODIFIED:20221025T150833Z
UID:10000092-1665061200-1665066600@vicjohnston.ca
SUMMARY:Parent with Tot and Senior Free Skate
DESCRIPTION:If you are a parent with a tot (s) or a senior with nothing to do on a Thursday\, come on out to our free skate from 1-2:30pm. \nCome on down and skate with us!
URL:https://vicjohnston.ca/event/parent-with-tot-and-senior-free-skate/2022-10-06/
END:VEVENT
BEGIN:VEVENT
DTSTART;TZID=America/Toronto:20220923T180000
DTEND;TZID=America/Toronto:20220923T210000
DTSTAMP:20260420T115155
CREATED:20220915T143845Z
LAST-MODIFIED:20220915T143845Z
UID:10000088-1663956000-1663966800@vicjohnston.ca
SUMMARY:Streetsville Ladies Night
DESCRIPTION:Are you ready?
URL:https://vicjohnston.ca/event/streetsville-ladies-night/
CATEGORIES:Community Events
ATTACH;FMTTYPE=image/jpeg:https://vicjohnston.ca/wp-content/uploads/2022/09/STREETSVILLE-REVISED.jpg
END:VEVENT
BEGIN:VEVENT
DTSTART;TZID=America/Toronto:20220917T130000
DTEND;TZID=America/Toronto:20220917T163000
DTSTAMP:20260420T115155
CREATED:20220902T130241Z
LAST-MODIFIED:20220902T130316Z
UID:10000066-1663419600-1663432200@vicjohnston.ca
SUMMARY:Hockey Equipment Swap
DESCRIPTION:
URL:https://vicjohnston.ca/event/hockey-equipment-swap/2022-09-17/
CATEGORIES:Community Events
END:VEVENT
BEGIN:VEVENT
DTSTART;TZID=America/Toronto:20220910T130000
DTEND;TZID=America/Toronto:20220910T163000
DTSTAMP:20260420T115155
CREATED:20220902T130241Z
LAST-MODIFIED:20220902T130316Z
UID:10000065-1662814800-1662827400@vicjohnston.ca
SUMMARY:Hockey Equipment Swap
DESCRIPTION:
URL:https://vicjohnston.ca/event/hockey-equipment-swap/2022-09-10/
CATEGORIES:Community Events
END:VEVENT
BEGIN:VEVENT
DTSTART;TZID=America/Toronto:20220903T090000
DTEND;TZID=America/Toronto:20220903T140000
DTSTAMP:20260420T115155
CREATED:20220307T174441Z
LAST-MODIFIED:20220309T160002Z
UID:10000054-1662195600-1662213600@vicjohnston.ca
SUMMARY:Streetsville Summer Market
DESCRIPTION:Opening Day of the Streetsville BIA Summer Market \n \nClick the link to take you to the Streetsville BIA events page
URL:https://vicjohnston.ca/event/streetsville-summer-market-9/2022-09-03/
CATEGORIES:Community Events
END:VEVENT
BEGIN:VEVENT
DTSTART;TZID=America/Toronto:20220827T090000
DTEND;TZID=America/Toronto:20220827T140000
DTSTAMP:20260420T115155
CREATED:20220307T174441Z
LAST-MODIFIED:20220309T160002Z
UID:10000053-1661590800-1661608800@vicjohnston.ca
SUMMARY:Streetsville Summer Market
DESCRIPTION:Opening Day of the Streetsville BIA Summer Market \n \nClick the link to take you to the Streetsville BIA events page
URL:https://vicjohnston.ca/event/streetsville-summer-market-9/2022-08-27/
CATEGORIES:Community Events
END:VEVENT
BEGIN:VEVENT
DTSTART;TZID=America/Toronto:20220820T090000
DTEND;TZID=America/Toronto:20220820T140000
DTSTAMP:20260420T115155
CREATED:20220307T174441Z
LAST-MODIFIED:20220309T160002Z
UID:10000052-1660986000-1661004000@vicjohnston.ca
SUMMARY:Streetsville Summer Market
DESCRIPTION:Opening Day of the Streetsville BIA Summer Market \n \nClick the link to take you to the Streetsville BIA events page
URL:https://vicjohnston.ca/event/streetsville-summer-market-9/2022-08-20/
CATEGORIES:Community Events
END:VEVENT
BEGIN:VEVENT
DTSTART;TZID=America/Toronto:20220813T090000
DTEND;TZID=America/Toronto:20220813T140000
DTSTAMP:20260420T115155
CREATED:20220307T174441Z
LAST-MODIFIED:20220309T160002Z
UID:10000051-1660381200-1660399200@vicjohnston.ca
SUMMARY:Streetsville Summer Market
DESCRIPTION:Opening Day of the Streetsville BIA Summer Market \n \nClick the link to take you to the Streetsville BIA events page
URL:https://vicjohnston.ca/event/streetsville-summer-market-9/2022-08-13/
CATEGORIES:Community Events
END:VEVENT
BEGIN:VEVENT
DTSTART;TZID=America/Toronto:20220806T090000
DTEND;TZID=America/Toronto:20220806T140000
DTSTAMP:20260420T115155
CREATED:20220307T174441Z
LAST-MODIFIED:20220309T160002Z
UID:10000050-1659776400-1659794400@vicjohnston.ca
SUMMARY:Streetsville Summer Market
DESCRIPTION:Opening Day of the Streetsville BIA Summer Market \n \nClick the link to take you to the Streetsville BIA events page
URL:https://vicjohnston.ca/event/streetsville-summer-market-9/2022-08-06/
CATEGORIES:Community Events
END:VEVENT
BEGIN:VEVENT
DTSTART;TZID=America/Toronto:20220730T090000
DTEND;TZID=America/Toronto:20220730T140000
DTSTAMP:20260420T115155
CREATED:20220307T174441Z
LAST-MODIFIED:20220309T160002Z
UID:10000049-1659171600-1659189600@vicjohnston.ca
SUMMARY:Streetsville Summer Market
DESCRIPTION:Opening Day of the Streetsville BIA Summer Market \n \nClick the link to take you to the Streetsville BIA events page
URL:https://vicjohnston.ca/event/streetsville-summer-market-9/2022-07-30/
CATEGORIES:Community Events
END:VEVENT
BEGIN:VEVENT
DTSTART;TZID=America/Toronto:20220723T090000
DTEND;TZID=America/Toronto:20220723T140000
DTSTAMP:20260420T115155
CREATED:20220307T174441Z
LAST-MODIFIED:20220309T160002Z
UID:10000048-1658566800-1658584800@vicjohnston.ca
SUMMARY:Streetsville Summer Market
DESCRIPTION:Opening Day of the Streetsville BIA Summer Market \n \nClick the link to take you to the Streetsville BIA events page
URL:https://vicjohnston.ca/event/streetsville-summer-market-9/2022-07-23/
CATEGORIES:Community Events
END:VEVENT
BEGIN:VEVENT
DTSTART;TZID=America/Toronto:20220716T090000
DTEND;TZID=America/Toronto:20220716T140000
DTSTAMP:20260420T115155
CREATED:20220307T174441Z
LAST-MODIFIED:20220309T160002Z
UID:10000047-1657962000-1657980000@vicjohnston.ca
SUMMARY:Streetsville Summer Market
DESCRIPTION:Opening Day of the Streetsville BIA Summer Market \n \nClick the link to take you to the Streetsville BIA events page
URL:https://vicjohnston.ca/event/streetsville-summer-market-9/2022-07-16/
CATEGORIES:Community Events
END:VEVENT
BEGIN:VEVENT
DTSTART;TZID=America/Toronto:20220709T090000
DTEND;TZID=America/Toronto:20220709T140000
DTSTAMP:20260420T115155
CREATED:20220307T174441Z
LAST-MODIFIED:20220309T160002Z
UID:10000046-1657357200-1657375200@vicjohnston.ca
SUMMARY:Streetsville Summer Market
DESCRIPTION:Opening Day of the Streetsville BIA Summer Market \n \nClick the link to take you to the Streetsville BIA events page
URL:https://vicjohnston.ca/event/streetsville-summer-market-9/2022-07-09/
CATEGORIES:Community Events
END:VEVENT
BEGIN:VEVENT
DTSTART;TZID=America/Toronto:20220604T110000
DTEND;TZID=America/Toronto:20220604T180000
DTSTAMP:20260420T115155
CREATED:20220307T175418Z
LAST-MODIFIED:20220307T175418Z
UID:10000055-1654340400-1654365600@vicjohnston.ca
SUMMARY:Bread and Honey Festival 50th Anniversary
DESCRIPTION:More information to come but save the date \n \nClick here to take you the the Streetsville BIA events page
URL:https://vicjohnston.ca/event/bread-and-honey-festival-50th-anniversary/
CATEGORIES:Community Events
END:VEVENT
BEGIN:VEVENT
DTSTART;TZID=America/Toronto:20220528T100000
DTEND;TZID=America/Toronto:20220528T160000
DTSTAMP:20260420T115155
CREATED:20220506T184824Z
LAST-MODIFIED:20220506T184824Z
UID:10000064-1653732000-1653753600@vicjohnston.ca
SUMMARY:Mississauga Funko Pop Palooza
DESCRIPTION:For more information about Mississauga Funko Pop Palooza click here
URL:https://vicjohnston.ca/event/mississauga-funko-pop-palooza-2/
CATEGORIES:Community Events
END:VEVENT
BEGIN:VEVENT
DTSTART;TZID=America/Toronto:20220528T100000
DTEND;TZID=America/Toronto:20220528T160000
DTSTAMP:20260420T115155
CREATED:20220321T175209Z
LAST-MODIFIED:20220321T175209Z
UID:10000063-1653732000-1653753600@vicjohnston.ca
SUMMARY:Funko Pop Palooza
DESCRIPTION:Click here for more information on Facebook
URL:https://vicjohnston.ca/event/funko-pop-palooza/
END:VEVENT
BEGIN:VEVENT
DTSTART;TZID=America/Toronto:20220428T130000
DTEND;TZID=America/Toronto:20220428T143000
DTSTAMP:20260420T115155
CREATED:20220309T160436Z
LAST-MODIFIED:20220309T160436Z
UID:10000062-1651150800-1651156200@vicjohnston.ca
SUMMARY:Free Senior and Parents with Tots Public Skate
DESCRIPTION:Free Skate for Seniors and Parents with Tots \nSee you Thursdays at 1pm !
URL:https://vicjohnston.ca/event/free-senior-and-parents-with-tots-public-skate/2022-04-28/
CATEGORIES:Community Events
END:VEVENT
BEGIN:VEVENT
DTSTART;TZID=America/Toronto:20220421T130000
DTEND;TZID=America/Toronto:20220421T143000
DTSTAMP:20260420T115155
CREATED:20220309T160436Z
LAST-MODIFIED:20220309T160436Z
UID:10000061-1650546000-1650551400@vicjohnston.ca
SUMMARY:Free Senior and Parents with Tots Public Skate
DESCRIPTION:Free Skate for Seniors and Parents with Tots \nSee you Thursdays at 1pm !
URL:https://vicjohnston.ca/event/free-senior-and-parents-with-tots-public-skate/2022-04-21/
CATEGORIES:Community Events
END:VEVENT
BEGIN:VEVENT
DTSTART;TZID=America/Toronto:20220414T130000
DTEND;TZID=America/Toronto:20220414T143000
DTSTAMP:20260420T115155
CREATED:20220309T160436Z
LAST-MODIFIED:20220309T160436Z
UID:10000060-1649941200-1649946600@vicjohnston.ca
SUMMARY:Free Senior and Parents with Tots Public Skate
DESCRIPTION:Free Skate for Seniors and Parents with Tots \nSee you Thursdays at 1pm !
URL:https://vicjohnston.ca/event/free-senior-and-parents-with-tots-public-skate/2022-04-14/
CATEGORIES:Community Events
END:VEVENT
BEGIN:VEVENT
DTSTART;TZID=America/Toronto:20220407T130000
DTEND;TZID=America/Toronto:20220407T143000
DTSTAMP:20260420T115155
CREATED:20220309T160436Z
LAST-MODIFIED:20220309T160436Z
UID:10000059-1649336400-1649341800@vicjohnston.ca
SUMMARY:Free Senior and Parents with Tots Public Skate
DESCRIPTION:Free Skate for Seniors and Parents with Tots \nSee you Thursdays at 1pm !
URL:https://vicjohnston.ca/event/free-senior-and-parents-with-tots-public-skate/2022-04-07/
CATEGORIES:Community Events
END:VEVENT
BEGIN:VEVENT
DTSTART;TZID=America/Toronto:20220331T130000
DTEND;TZID=America/Toronto:20220331T143000
DTSTAMP:20260420T115155
CREATED:20220309T160436Z
LAST-MODIFIED:20220309T160436Z
UID:10000058-1648731600-1648737000@vicjohnston.ca
SUMMARY:Free Senior and Parents with Tots Public Skate
DESCRIPTION:Free Skate for Seniors and Parents with Tots \nSee you Thursdays at 1pm !
URL:https://vicjohnston.ca/event/free-senior-and-parents-with-tots-public-skate/2022-03-31/
CATEGORIES:Community Events
END:VEVENT
BEGIN:VEVENT
DTSTART;TZID=America/Toronto:20220324T130000
DTEND;TZID=America/Toronto:20220324T143000
DTSTAMP:20260420T115155
CREATED:20220309T160436Z
LAST-MODIFIED:20220309T160436Z
UID:10000057-1648126800-1648132200@vicjohnston.ca
SUMMARY:Free Senior and Parents with Tots Public Skate
DESCRIPTION:Free Skate for Seniors and Parents with Tots \nSee you Thursdays at 1pm !
URL:https://vicjohnston.ca/event/free-senior-and-parents-with-tots-public-skate/2022-03-24/
CATEGORIES:Community Events
END:VEVENT
END:VCALENDAR