BEGIN:VCALENDAR
VERSION:2.0
PRODID:-//Vic Johnston Community Centre - ECPv6.15.20//NONSGML v1.0//EN
CALSCALE:GREGORIAN
METHOD:PUBLISH
X-WR-CALNAME:Vic Johnston Community Centre
X-ORIGINAL-URL:https://vicjohnston.ca
X-WR-CALDESC:Events for Vic Johnston Community Centre
REFRESH-INTERVAL;VALUE=DURATION:PT1H
X-Robots-Tag:noindex
X-PUBLISHED-TTL:PT1H
BEGIN:VTIMEZONE
TZID:America/Toronto
BEGIN:DAYLIGHT
TZOFFSETFROM:-0500
TZOFFSETTO:-0400
TZNAME:EDT
DTSTART:20200308T070000
END:DAYLIGHT
BEGIN:STANDARD
TZOFFSETFROM:-0400
TZOFFSETTO:-0500
TZNAME:EST
DTSTART:20201101T060000
END:STANDARD
BEGIN:DAYLIGHT
TZOFFSETFROM:-0500
TZOFFSETTO:-0400
TZNAME:EDT
DTSTART:20210314T070000
END:DAYLIGHT
BEGIN:STANDARD
TZOFFSETFROM:-0400
TZOFFSETTO:-0500
TZNAME:EST
DTSTART:20211107T060000
END:STANDARD
BEGIN:DAYLIGHT
TZOFFSETFROM:-0500
TZOFFSETTO:-0400
TZNAME:EDT
DTSTART:20220313T070000
END:DAYLIGHT
BEGIN:STANDARD
TZOFFSETFROM:-0400
TZOFFSETTO:-0500
TZNAME:EST
DTSTART:20221106T060000
END:STANDARD
BEGIN:DAYLIGHT
TZOFFSETFROM:-0500
TZOFFSETTO:-0400
TZNAME:EDT
DTSTART:20230312T070000
END:DAYLIGHT
BEGIN:STANDARD
TZOFFSETFROM:-0400
TZOFFSETTO:-0500
TZNAME:EST
DTSTART:20231105T060000
END:STANDARD
END:VTIMEZONE
BEGIN:VEVENT
DTSTART;TZID=America/Toronto:20220213T120000
DTEND;TZID=America/Toronto:20220213T133000
DTSTAMP:20260420T162252
CREATED:20211206T192352Z
LAST-MODIFIED:20211207T161830Z
UID:10000040-1644753600-1644759000@vicjohnston.ca
SUMMARY:Public Skating 12:00-1:30PM
DESCRIPTION:Come on down and skate with us!
URL:https://vicjohnston.ca/event/public-skating-1200-130pm/2022-02-13/
CATEGORIES:Community Events
END:VEVENT
BEGIN:VEVENT
DTSTART;TZID=America/Toronto:20220206T120000
DTEND;TZID=America/Toronto:20220206T133000
DTSTAMP:20260420T162252
CREATED:20211206T192352Z
LAST-MODIFIED:20211207T161830Z
UID:10000039-1644148800-1644154200@vicjohnston.ca
SUMMARY:Public Skating 12:00-1:30PM
DESCRIPTION:Come on down and skate with us!
URL:https://vicjohnston.ca/event/public-skating-1200-130pm/2022-02-06/
CATEGORIES:Community Events
END:VEVENT
BEGIN:VEVENT
DTSTART;TZID=America/Toronto:20220130T120000
DTEND;TZID=America/Toronto:20220130T133000
DTSTAMP:20260420T162252
CREATED:20211206T192352Z
LAST-MODIFIED:20211207T161830Z
UID:10000038-1643544000-1643549400@vicjohnston.ca
SUMMARY:Public Skating 12:00-1:30PM
DESCRIPTION:Come on down and skate with us!
URL:https://vicjohnston.ca/event/public-skating-1200-130pm/2022-01-30/
CATEGORIES:Community Events
END:VEVENT
BEGIN:VEVENT
DTSTART;TZID=America/Toronto:20220123T120000
DTEND;TZID=America/Toronto:20220123T133000
DTSTAMP:20260420T162252
CREATED:20211206T192352Z
LAST-MODIFIED:20211207T161830Z
UID:10000037-1642939200-1642944600@vicjohnston.ca
SUMMARY:Public Skating 12:00-1:30PM
DESCRIPTION:Come on down and skate with us!
URL:https://vicjohnston.ca/event/public-skating-1200-130pm/2022-01-23/
CATEGORIES:Community Events
END:VEVENT
BEGIN:VEVENT
DTSTART;TZID=America/Toronto:20220116T120000
DTEND;TZID=America/Toronto:20220116T133000
DTSTAMP:20260420T162252
CREATED:20211206T192352Z
LAST-MODIFIED:20211207T161830Z
UID:10000036-1642334400-1642339800@vicjohnston.ca
SUMMARY:Public Skating 12:00-1:30PM
DESCRIPTION:Come on down and skate with us!
URL:https://vicjohnston.ca/event/public-skating-1200-130pm/2022-01-16/
CATEGORIES:Community Events
END:VEVENT
BEGIN:VEVENT
DTSTART;TZID=America/Toronto:20220109T120000
DTEND;TZID=America/Toronto:20220109T133000
DTSTAMP:20260420T162252
CREATED:20211206T192352Z
LAST-MODIFIED:20211207T161830Z
UID:10000035-1641729600-1641735000@vicjohnston.ca
SUMMARY:Public Skating 12:00-1:30PM
DESCRIPTION:Come on down and skate with us!
URL:https://vicjohnston.ca/event/public-skating-1200-130pm/2022-01-09/
CATEGORIES:Community Events
END:VEVENT
BEGIN:VEVENT
DTSTART;TZID=America/Toronto:20220102T120000
DTEND;TZID=America/Toronto:20220102T133000
DTSTAMP:20260420T162252
CREATED:20211206T192352Z
LAST-MODIFIED:20211207T161830Z
UID:10000034-1641124800-1641130200@vicjohnston.ca
SUMMARY:Public Skating 12:00-1:30PM
DESCRIPTION:Come on down and skate with us!
URL:https://vicjohnston.ca/event/public-skating-1200-130pm/2022-01-02/
CATEGORIES:Community Events
END:VEVENT
BEGIN:VEVENT
DTSTART;TZID=America/Toronto:20211219T120000
DTEND;TZID=America/Toronto:20211219T133000
DTSTAMP:20260420T162252
CREATED:20211206T192352Z
LAST-MODIFIED:20211207T161830Z
UID:10000033-1639915200-1639920600@vicjohnston.ca
SUMMARY:Public Skating 12:00-1:30PM
DESCRIPTION:Come on down and skate with us!
URL:https://vicjohnston.ca/event/public-skating-1200-130pm/2021-12-19/
CATEGORIES:Community Events
END:VEVENT
BEGIN:VEVENT
DTSTART;TZID=America/Toronto:20211212T120000
DTEND;TZID=America/Toronto:20211212T133000
DTSTAMP:20260420T162252
CREATED:20211206T192352Z
LAST-MODIFIED:20211207T161830Z
UID:10000032-1639310400-1639315800@vicjohnston.ca
SUMMARY:Public Skating 12:00-1:30PM
DESCRIPTION:Come on down and skate with us!
URL:https://vicjohnston.ca/event/public-skating-1200-130pm/2021-12-12/
CATEGORIES:Community Events
END:VEVENT
BEGIN:VEVENT
DTSTART;TZID=America/Toronto:20211128T100000
DTEND;TZID=America/Toronto:20211128T180000
DTSTAMP:20260420T162252
CREATED:20211116T200837Z
LAST-MODIFIED:20211116T200846Z
UID:10000031-1638093600-1638122400@vicjohnston.ca
SUMMARY:Christmas in the Village
DESCRIPTION:Celebrate the holiday season with us here in Streetsville!\n\nOn Saturday\, November 27th there will be free family activities such as interactive ice activities sponsored by TELUS\, Learn To Curl sponsored by The Vic Johnston Community Centre\, kids crafts\, live music\, an artisan market from 10 a.m. to 6:00 p.m. Of course\, there will also be a visit from Jolly Old Saint Nick from 2 p.m. to 6:00 p.m.*\n\nThe celebration continues on Sunday\, November 28th with our artisan market from 10:a.m. to 6:00 p.m.\,  live music and kids crafts from 11:00 a.m. to 6:00 p.m. and Santa will be back from 2 p.m. to 6:00 p.m.\n\nAll weekend we will be collecting toys for Toys for Tots\, you can drop off your new toys by the Christmas Tree. We will also be collecting non-perishables for Eden Food for Change (at the Queen St. and Main St\, entrance).\n\n*Please note families will be able to take socially distanced selfies with Santa.\n\nHoliday Entertainment Schedule Saturday\, November 27th Noon – 2:00 p.m. River North 2:30 p.m. – 4:00 p.m. Brass Band 4:45 p.m. – 6:00 p.m. Screeched Inn   Sunday\, November 28th 11:00 a.m. – Noon The Boneheads 1:30 p.m. – 3:00 p.m. Jade Hilton 4:45 p.m. – 6:00 p.m. Michael Theodore – Solo Acoustic Mayhem \n\n\n\n\n\n\n\n\n\n\n\n\nFEATURED EVENTS\nCheck out some of the exciting events coming up in Streetsville! \n\n\n\n\n\nSUPPORT THE ‘VILLE CONTEST\nNovember 16\, 2021 to December 13\, 2021 \n\n\nAll Day\n\n\n\n\nBREAKFAST IN STREETSVILLE\nNovember 27\, 2021 \n\n\n8:00 am / 11:00 am\n\n\n\n\nSTREETSVILLE’S CHRISTMAS IN THE VILLAGE\nNovember 27\, 2021 to November 28\, 2021 \n\n\n10:00 am / 6:00 pm
URL:https://vicjohnston.ca/event/christmas-in-the-village/2021-11-28/
CATEGORIES:Community Events
END:VEVENT
BEGIN:VEVENT
DTSTART;TZID=America/Toronto:20211127T100000
DTEND;TZID=America/Toronto:20211127T180000
DTSTAMP:20260420T162252
CREATED:20211116T200837Z
LAST-MODIFIED:20211116T200846Z
UID:10000030-1638007200-1638036000@vicjohnston.ca
SUMMARY:Christmas in the Village
DESCRIPTION:Celebrate the holiday season with us here in Streetsville!\n\nOn Saturday\, November 27th there will be free family activities such as interactive ice activities sponsored by TELUS\, Learn To Curl sponsored by The Vic Johnston Community Centre\, kids crafts\, live music\, an artisan market from 10 a.m. to 6:00 p.m. Of course\, there will also be a visit from Jolly Old Saint Nick from 2 p.m. to 6:00 p.m.*\n\nThe celebration continues on Sunday\, November 28th with our artisan market from 10:a.m. to 6:00 p.m.\,  live music and kids crafts from 11:00 a.m. to 6:00 p.m. and Santa will be back from 2 p.m. to 6:00 p.m.\n\nAll weekend we will be collecting toys for Toys for Tots\, you can drop off your new toys by the Christmas Tree. We will also be collecting non-perishables for Eden Food for Change (at the Queen St. and Main St\, entrance).\n\n*Please note families will be able to take socially distanced selfies with Santa.\n\nHoliday Entertainment Schedule Saturday\, November 27th Noon – 2:00 p.m. River North 2:30 p.m. – 4:00 p.m. Brass Band 4:45 p.m. – 6:00 p.m. Screeched Inn   Sunday\, November 28th 11:00 a.m. – Noon The Boneheads 1:30 p.m. – 3:00 p.m. Jade Hilton 4:45 p.m. – 6:00 p.m. Michael Theodore – Solo Acoustic Mayhem \n\n\n\n\n\n\n\n\n\n\n\n\nFEATURED EVENTS\nCheck out some of the exciting events coming up in Streetsville! \n\n\n\n\n\nSUPPORT THE ‘VILLE CONTEST\nNovember 16\, 2021 to December 13\, 2021 \n\n\nAll Day\n\n\n\n\nBREAKFAST IN STREETSVILLE\nNovember 27\, 2021 \n\n\n8:00 am / 11:00 am\n\n\n\n\nSTREETSVILLE’S CHRISTMAS IN THE VILLAGE\nNovember 27\, 2021 to November 28\, 2021 \n\n\n10:00 am / 6:00 pm
URL:https://vicjohnston.ca/event/christmas-in-the-village/2021-11-27/
CATEGORIES:Community Events
END:VEVENT
BEGIN:VEVENT
DTSTART;TZID=America/Toronto:20211121T120000
DTEND;TZID=America/Toronto:20211121T133000
DTSTAMP:20260420T162252
CREATED:20211102T183355Z
LAST-MODIFIED:20211102T184651Z
UID:10000027-1637496000-1637501400@vicjohnston.ca
SUMMARY:Public Skating
DESCRIPTION:Time to come skate!
URL:https://vicjohnston.ca/event/public-skate/
CATEGORIES:Community Events
END:VEVENT
BEGIN:VEVENT
DTSTART;TZID=America/Toronto:20211114T120000
DTEND;TZID=America/Toronto:20211114T133000
DTSTAMP:20260420T162252
CREATED:20211102T183119Z
LAST-MODIFIED:20211102T184626Z
UID:10000026-1636891200-1636896600@vicjohnston.ca
SUMMARY:Public Skating
DESCRIPTION:Who is ready to go skating?
URL:https://vicjohnston.ca/event/public-skating-2/
CATEGORIES:Community Events
END:VEVENT
BEGIN:VEVENT
DTSTART;TZID=America/Toronto:20211107T120000
DTEND;TZID=America/Toronto:20211107T133000
DTSTAMP:20260420T162252
CREATED:20211102T182657Z
LAST-MODIFIED:20211102T184554Z
UID:10000025-1636286400-1636291800@vicjohnston.ca
SUMMARY:Public Skating
DESCRIPTION:https://vicjohnston.ca/wp-content/uploads/2021/11/Vic-Public-skate-2018.mp4
URL:https://vicjohnston.ca/event/public-skating/
CATEGORIES:Community Events
END:VEVENT
BEGIN:VEVENT
DTSTART;TZID=America/Toronto:20211106T150000
DTEND;TZID=America/Toronto:20211106T193000
DTSTAMP:20260420T162252
CREATED:20211102T185517Z
LAST-MODIFIED:20211102T185517Z
UID:10000028-1636210800-1636227000@vicjohnston.ca
SUMMARY:Mississauga Funko Pop Palooza
DESCRIPTION:Come check out this event!
URL:https://vicjohnston.ca/event/mississauga-funko-pop-palooza/
CATEGORIES:Community Events
END:VEVENT
BEGIN:VEVENT
DTSTART;TZID=America/Toronto:20211104T130000
DTEND;TZID=America/Toronto:20211104T143000
DTSTAMP:20260420T162252
CREATED:20211102T190017Z
LAST-MODIFIED:20211102T190026Z
UID:10000029-1636030800-1636036200@vicjohnston.ca
SUMMARY:Senior/Parent & Tot Free Skate
DESCRIPTION:Free Skate for Seniors and Parents with Tots
URL:https://vicjohnston.ca/event/senior-parent-tot-free-skate/
CATEGORIES:Community Events
END:VEVENT
BEGIN:VEVENT
DTSTART;TZID=America/Toronto:20210904T080000
DTEND;TZID=America/Toronto:20210904T130000
DTSTAMP:20260420T162252
CREATED:20210712T203550Z
LAST-MODIFIED:20210723T144800Z
UID:10000024-1630742400-1630760400@vicjohnston.ca
SUMMARY:Streetsville Summer Market
DESCRIPTION:Every Saturday\nJuly 3rd to September 4th \nAt The Streetsville Village Square (Queen Street S. & Main Street) \nVendor List: \n\nAlphonsas Gourmet\nBlue Danube Sausage House Ltd\nFight For Five Sustainability Projects\nLittle Bee Farmer’s Market\nMad Mexican\nMandala Dot Art\nMorfosoaps\nN and S Woodworks\nSandusk Farm Lavender\nSteve’s Bees\nWaterfall of Wellness
URL:https://vicjohnston.ca/event/streetsville-summer-market-8/
CATEGORIES:Community Events
ATTACH;FMTTYPE=image/jpeg:https://vicjohnston.ca/wp-content/uploads/2021/07/Streetsville-Summer-Market.jpg
END:VEVENT
BEGIN:VEVENT
DTSTART;TZID=America/Toronto:20210828T080000
DTEND;TZID=America/Toronto:20210828T130000
DTSTAMP:20260420T162252
CREATED:20210712T203423Z
LAST-MODIFIED:20210712T203426Z
UID:10000023-1630137600-1630155600@vicjohnston.ca
SUMMARY:Streetsville Summer Market
DESCRIPTION:Every Saturday\nJuly 3rd to September 4th \nAt The Streetsville Village Square (Queen Street S. & Main Street) \nVendor List: \n\nAlphonsas Gourmet\nBlue Danube Sausage House Ltd\nFight For Five Sustainability Projects\nLittle Bee Farmer’s Market\nMad Mexican\nMandala Dot Art\nMorfosoaps\nN and S Woodworks\nSandusk Farm Lavender\nSteve’s Bees\nWaterfall of Wellness
URL:https://vicjohnston.ca/event/streetsville-summer-market-7/
CATEGORIES:Community Events
ATTACH;FMTTYPE=image/jpeg:https://vicjohnston.ca/wp-content/uploads/2021/07/Streetsville-Summer-Market.jpg
END:VEVENT
BEGIN:VEVENT
DTSTART;TZID=America/Toronto:20210821T080000
DTEND;TZID=America/Toronto:20210821T130000
DTSTAMP:20260420T162252
CREATED:20210712T203259Z
LAST-MODIFIED:20210712T203302Z
UID:10000022-1629532800-1629550800@vicjohnston.ca
SUMMARY:Streetsville Summer Market
DESCRIPTION:Every Saturday\nJuly 3rd to September 4th \nAt The Streetsville Village Square (Queen Street S. & Main Street) \nVendor List: \n\nAlphonsas Gourmet\nBlue Danube Sausage House Ltd\nFight For Five Sustainability Projects\nLittle Bee Farmer’s Market\nMad Mexican\nMandala Dot Art\nMorfosoaps\nN and S Woodworks\nSandusk Farm Lavender\nSteve’s Bees\nWaterfall of Wellness
URL:https://vicjohnston.ca/event/streetsville-summer-market-6/
CATEGORIES:Community Events
ATTACH;FMTTYPE=image/jpeg:https://vicjohnston.ca/wp-content/uploads/2021/07/Streetsville-Summer-Market.jpg
END:VEVENT
BEGIN:VEVENT
DTSTART;TZID=America/Toronto:20210814T080000
DTEND;TZID=America/Toronto:20210814T130000
DTSTAMP:20260420T162252
CREATED:20210712T202037Z
LAST-MODIFIED:20210712T202503Z
UID:10000021-1628928000-1628946000@vicjohnston.ca
SUMMARY:Streetsville Summer Market
DESCRIPTION:Every Saturday\nJuly 3rd to September 4th \nAt The Streetsville Village Square (Queen Street S. & Main Street) \nVendor List: \n\nAlphonsas Gourmet\nBlue Danube Sausage House Ltd\nFight For Five Sustainability Projects\nLittle Bee Farmer’s Market\nMad Mexican\nMandala Dot Art\nMorfosoaps\nN and S Woodworks\nSandusk Farm Lavender\nSteve’s Bees\nWaterfall of Wellness
URL:https://vicjohnston.ca/event/streetsville-summer-market-5/
CATEGORIES:Community Events
ATTACH;FMTTYPE=image/jpeg:https://vicjohnston.ca/wp-content/uploads/2021/07/Streetsville-Summer-Market.jpg
END:VEVENT
BEGIN:VEVENT
DTSTART;TZID=America/Toronto:20210807T080000
DTEND;TZID=America/Toronto:20210807T130000
DTSTAMP:20260420T162252
CREATED:20210712T201852Z
LAST-MODIFIED:20210712T202915Z
UID:10000020-1628323200-1628341200@vicjohnston.ca
SUMMARY:Streetsville Summer Market
DESCRIPTION:Every Saturday\nJuly 3rd to September 4th \nAt The Streetsville Village Square (Queen Street S. & Main Street) \nVendor List: \n\nAlphonsas Gourmet\nBlue Danube Sausage House Ltd\nFight For Five Sustainability Projects\nLittle Bee Farmer’s Market\nMad Mexican\nMandala Dot Art\nMorfosoaps\nN and S Woodworks\nSandusk Farm Lavender\nSteve’s Bees\nWaterfall of Wellness
URL:https://vicjohnston.ca/event/streetsville-summer-market-4/
CATEGORIES:Community Events
ATTACH;FMTTYPE=image/jpeg:https://vicjohnston.ca/wp-content/uploads/2021/07/Streetsville-Summer-Market.jpg
END:VEVENT
BEGIN:VEVENT
DTSTART;TZID=America/Toronto:20210801T120000
DTEND;TZID=America/Toronto:20210801T203000
DTSTAMP:20260420T162253
CREATED:20210707T191048Z
LAST-MODIFIED:20210707T195338Z
UID:10000016-1627819200-1627849800@vicjohnston.ca
SUMMARY:Private Rental
DESCRIPTION:
URL:https://vicjohnston.ca/event/private-rental-10/
CATEGORIES:Private Rental
END:VEVENT
BEGIN:VEVENT
DTSTART;TZID=America/Toronto:20210731T170000
DTEND;TZID=America/Toronto:20210731T180000
DTSTAMP:20260420T162253
CREATED:20210707T191000Z
LAST-MODIFIED:20210707T191000Z
UID:10000015-1627750800-1627754400@vicjohnston.ca
SUMMARY:Private Rental
DESCRIPTION:
URL:https://vicjohnston.ca/event/private-rental-9/
CATEGORIES:Private Rental
END:VEVENT
BEGIN:VEVENT
DTSTART;TZID=America/Toronto:20210731T120000
DTEND;TZID=America/Toronto:20210731T130000
DTSTAMP:20260420T162253
CREATED:20210707T190928Z
LAST-MODIFIED:20210707T190928Z
UID:10000014-1627732800-1627736400@vicjohnston.ca
SUMMARY:Private Rental
DESCRIPTION:
URL:https://vicjohnston.ca/event/private-rental-8/
CATEGORIES:Private Rental
END:VEVENT
BEGIN:VEVENT
DTSTART;TZID=America/Toronto:20210731T100000
DTEND;TZID=America/Toronto:20210731T110000
DTSTAMP:20260420T162253
CREATED:20210707T190853Z
LAST-MODIFIED:20210707T190853Z
UID:10000013-1627725600-1627729200@vicjohnston.ca
SUMMARY:Private Rental
DESCRIPTION:
URL:https://vicjohnston.ca/event/private-rental-7/
CATEGORIES:Private Rental
END:VEVENT
BEGIN:VEVENT
DTSTART;TZID=America/Toronto:20210731T080000
DTEND;TZID=America/Toronto:20210731T130000
DTSTAMP:20260420T162253
CREATED:20210712T201724Z
LAST-MODIFIED:20210712T203020Z
UID:10000019-1627718400-1627736400@vicjohnston.ca
SUMMARY:Streetsville Summer Market
DESCRIPTION:Every Saturday\nJuly 3rd to September 4th \nAt The Streetsville Village Square (Queen Street S. & Main Street) \nVendor List: \n\nAlphonsas Gourmet\nBlue Danube Sausage House Ltd\nFight For Five Sustainability Projects\nLittle Bee Farmer’s Market\nMad Mexican\nMandala Dot Art\nMorfosoaps\nN and S Woodworks\nSandusk Farm Lavender\nSteve’s Bees\nWaterfall of Wellness
URL:https://vicjohnston.ca/event/streetsville-summer-market-3/
CATEGORIES:Community Events
ATTACH;FMTTYPE=image/jpeg:https://vicjohnston.ca/wp-content/uploads/2021/07/Streetsville-Summer-Market.jpg
END:VEVENT
BEGIN:VEVENT
DTSTART;TZID=America/Toronto:20210730T160000
DTEND;TZID=America/Toronto:20210730T200000
DTSTAMP:20260420T162253
CREATED:20210707T190726Z
LAST-MODIFIED:20210707T190726Z
UID:10000012-1627660800-1627675200@vicjohnston.ca
SUMMARY:Private Rental
DESCRIPTION:
URL:https://vicjohnston.ca/event/private-rental-6/
CATEGORIES:Private Rental
END:VEVENT
BEGIN:VEVENT
DTSTART;TZID=America/Toronto:20210730T100000
DTEND;TZID=America/Toronto:20210730T160000
DTSTAMP:20260420T162253
CREATED:20210707T190643Z
LAST-MODIFIED:20210723T163340Z
UID:10000011-1627639200-1627660800@vicjohnston.ca
SUMMARY:Private Hockey Camp
DESCRIPTION:
URL:https://vicjohnston.ca/event/private-hockey-camp-3/
CATEGORIES:Hockey Camp
END:VEVENT
BEGIN:VEVENT
DTSTART;TZID=America/Toronto:20210729T180000
DTEND;TZID=America/Toronto:20210729T210000
DTSTAMP:20260420T162253
CREATED:20210707T190538Z
LAST-MODIFIED:20210707T190538Z
UID:10000010-1627581600-1627592400@vicjohnston.ca
SUMMARY:Private Rental
DESCRIPTION:
URL:https://vicjohnston.ca/event/private-rental-5/
CATEGORIES:Private Rental
END:VEVENT
BEGIN:VEVENT
DTSTART;TZID=America/Toronto:20210729T160000
DTEND;TZID=America/Toronto:20210729T170000
DTSTAMP:20260420T162253
CREATED:20210707T190503Z
LAST-MODIFIED:20210707T190503Z
UID:10000009-1627574400-1627578000@vicjohnston.ca
SUMMARY:Private Rental
DESCRIPTION:
URL:https://vicjohnston.ca/event/private-rental-4/
CATEGORIES:Private Rental
END:VEVENT
END:VCALENDAR