BEGIN:VCALENDAR
VERSION:2.0
PRODID:-//Vic Johnston Community Centre - ECPv6.15.20//NONSGML v1.0//EN
CALSCALE:GREGORIAN
METHOD:PUBLISH
X-WR-CALNAME:Vic Johnston Community Centre
X-ORIGINAL-URL:https://vicjohnston.ca
X-WR-CALDESC:Events for Vic Johnston Community Centre
REFRESH-INTERVAL;VALUE=DURATION:PT1H
X-Robots-Tag:noindex
X-PUBLISHED-TTL:PT1H
BEGIN:VTIMEZONE
TZID:America/Toronto
BEGIN:DAYLIGHT
TZOFFSETFROM:-0500
TZOFFSETTO:-0400
TZNAME:EDT
DTSTART:20200308T070000
END:DAYLIGHT
BEGIN:STANDARD
TZOFFSETFROM:-0400
TZOFFSETTO:-0500
TZNAME:EST
DTSTART:20201101T060000
END:STANDARD
BEGIN:DAYLIGHT
TZOFFSETFROM:-0500
TZOFFSETTO:-0400
TZNAME:EDT
DTSTART:20210314T070000
END:DAYLIGHT
BEGIN:STANDARD
TZOFFSETFROM:-0400
TZOFFSETTO:-0500
TZNAME:EST
DTSTART:20211107T060000
END:STANDARD
BEGIN:DAYLIGHT
TZOFFSETFROM:-0500
TZOFFSETTO:-0400
TZNAME:EDT
DTSTART:20220313T070000
END:DAYLIGHT
BEGIN:STANDARD
TZOFFSETFROM:-0400
TZOFFSETTO:-0500
TZNAME:EST
DTSTART:20221106T060000
END:STANDARD
END:VTIMEZONE
BEGIN:VEVENT
DTSTART;TZID=America/Toronto:20210729T180000
DTEND;TZID=America/Toronto:20210729T210000
DTSTAMP:20260421T131119
CREATED:20210707T190538Z
LAST-MODIFIED:20210707T190538Z
UID:10000010-1627581600-1627592400@vicjohnston.ca
SUMMARY:Private Rental
DESCRIPTION:
URL:https://vicjohnston.ca/event/private-rental-5/
CATEGORIES:Private Rental
END:VEVENT
BEGIN:VEVENT
DTSTART;TZID=America/Toronto:20210729T160000
DTEND;TZID=America/Toronto:20210729T170000
DTSTAMP:20260421T131119
CREATED:20210707T190503Z
LAST-MODIFIED:20210707T190503Z
UID:10000009-1627574400-1627578000@vicjohnston.ca
SUMMARY:Private Rental
DESCRIPTION:
URL:https://vicjohnston.ca/event/private-rental-4/
CATEGORIES:Private Rental
END:VEVENT
BEGIN:VEVENT
DTSTART;TZID=America/Toronto:20210729T070000
DTEND;TZID=America/Toronto:20210729T160000
DTSTAMP:20260421T131119
CREATED:20210707T190223Z
LAST-MODIFIED:20210707T190304Z
UID:10000008-1627542000-1627574400@vicjohnston.ca
SUMMARY:Private Hockey Camp
DESCRIPTION:
URL:https://vicjohnston.ca/event/private-hockey-camp-2/
CATEGORIES:Hockey Camp
END:VEVENT
BEGIN:VEVENT
DTSTART;TZID=America/Toronto:20210728T160000
DTEND;TZID=America/Toronto:20210728T230000
DTSTAMP:20260421T131119
CREATED:20210707T190104Z
LAST-MODIFIED:20210707T190104Z
UID:10000007-1627488000-1627513200@vicjohnston.ca
SUMMARY:Private Rental
DESCRIPTION:
URL:https://vicjohnston.ca/event/private-rental-3/
CATEGORIES:Private Rental
END:VEVENT
BEGIN:VEVENT
DTSTART;TZID=America/Toronto:20210728T090000
DTEND;TZID=America/Toronto:20210728T160000
DTSTAMP:20260421T131119
CREATED:20210707T185543Z
LAST-MODIFIED:20210707T185543Z
UID:10000006-1627462800-1627488000@vicjohnston.ca
SUMMARY:Private Hockey Camps
DESCRIPTION:
URL:https://vicjohnston.ca/event/private-hockey-camps/
CATEGORIES:Hockey Camp
END:VEVENT
BEGIN:VEVENT
DTSTART;TZID=America/Toronto:20210727T180000
DTEND;TZID=America/Toronto:20210727T210000
DTSTAMP:20260421T131119
CREATED:20210707T182321Z
LAST-MODIFIED:20210712T200730Z
UID:10000001-1627408800-1627419600@vicjohnston.ca
SUMMARY:Private Rental
DESCRIPTION:Private Rental
URL:https://vicjohnston.ca/event/private-rental-2/
CATEGORIES:Private Rental
ATTACH;FMTTYPE=image/png:https://vicjohnston.ca/wp-content/uploads/2021/03/Public-Skating.png
END:VEVENT
BEGIN:VEVENT
DTSTART;TZID=America/Toronto:20210727T160000
DTEND;TZID=America/Toronto:20210727T170000
DTSTAMP:20260421T131119
CREATED:20210707T181708Z
LAST-MODIFIED:20210707T181821Z
UID:10000002-1627401600-1627405200@vicjohnston.ca
SUMMARY:Private Rental
DESCRIPTION:Private Rental
URL:https://vicjohnston.ca/event/private-rental/
CATEGORIES:Private Rental
ATTACH;FMTTYPE=image/png:https://vicjohnston.ca/wp-content/uploads/2021/03/Public-Skating.png
END:VEVENT
BEGIN:VEVENT
DTSTART;TZID=America/Toronto:20210727T070000
DTEND;TZID=America/Toronto:20210727T160000
DTSTAMP:20260421T131119
CREATED:20210707T183936Z
LAST-MODIFIED:20210707T183936Z
UID:10000005-1627369200-1627401600@vicjohnston.ca
SUMMARY:Private Hockey Camp
DESCRIPTION:
URL:https://vicjohnston.ca/event/private-hockey-camp/
CATEGORIES:Hockey Camp
END:VEVENT
BEGIN:VEVENT
DTSTART;TZID=America/Toronto:20210726T173000
DTEND;TZID=America/Toronto:20210726T210000
DTSTAMP:20260421T131119
CREATED:20210604T193743Z
LAST-MODIFIED:20210712T192807Z
UID:10000004-1627320600-1627333200@vicjohnston.ca
SUMMARY:Private Rental
DESCRIPTION:Private Rental
URL:https://vicjohnston.ca/event/test/
CATEGORIES:Private Rental
ATTACH;FMTTYPE=image/png:https://vicjohnston.ca/wp-content/uploads/2021/03/Public-Skating.png
END:VEVENT
BEGIN:VEVENT
DTSTART;TZID=America/Toronto:20210726T090000
DTEND;TZID=America/Toronto:20210726T173000
DTSTAMP:20260421T131119
CREATED:20210707T174103Z
LAST-MODIFIED:20210707T185310Z
UID:10000003-1627290000-1627320600@vicjohnston.ca
SUMMARY:Private Hockey Camp
DESCRIPTION:Private Hockey Camps
URL:https://vicjohnston.ca/event/hockey-camp/
CATEGORIES:Hockey Camp
END:VEVENT
BEGIN:VEVENT
DTSTART;TZID=America/Toronto:20210724T080000
DTEND;TZID=America/Toronto:20210724T130000
DTSTAMP:20260421T131119
CREATED:20210712T201554Z
LAST-MODIFIED:20210712T203102Z
UID:10000018-1627113600-1627131600@vicjohnston.ca
SUMMARY:Streetsville Summer Market
DESCRIPTION:Every Saturday\nJuly 3rd to September 4th \nAt The Streetsville Village Square (Queen Street S. & Main Street) \nVendor List: \n\nAlphonsas Gourmet\nBlue Danube Sausage House Ltd\nFight For Five Sustainability Projects\nLittle Bee Farmer’s Market\nMad Mexican\nMandala Dot Art\nMorfosoaps\nN and S Woodworks\nSandusk Farm Lavender\nSteve’s Bees\nWaterfall of Wellness
URL:https://vicjohnston.ca/event/streetsville-summer-market-2/
CATEGORIES:Community Events
ATTACH;FMTTYPE=image/jpeg:https://vicjohnston.ca/wp-content/uploads/2021/07/Streetsville-Summer-Market.jpg
END:VEVENT
BEGIN:VEVENT
DTSTART;TZID=America/Toronto:20210717T080000
DTEND;TZID=America/Toronto:20210717T130000
DTSTAMP:20260421T131119
CREATED:20210712T172946Z
LAST-MODIFIED:20210712T191450Z
UID:10000017-1626508800-1626526800@vicjohnston.ca
SUMMARY:Streetsville Summer Market
DESCRIPTION:Every Saturday\nJuly 3rd to September 4th \nAt The Streetsville Village Square (Queen Street S. & Main Street) \nVendor List: \n\nAlphonsas Gourmet\nBlue Danube Sausage House Ltd\nFight For Five Sustainability Projects\nLittle Bee Farmer’s Market\nMad Mexican\nMandala Dot Art\nMorfosoaps\nN and S Woodworks\nSandusk Farm Lavender\nSteve’s Bees\nWaterfall of Wellness
URL:https://vicjohnston.ca/event/streetsville-summer-market/
CATEGORIES:Community Events
ATTACH;FMTTYPE=image/jpeg:https://vicjohnston.ca/wp-content/uploads/2021/07/Streetsville-Summer-Market.jpg
END:VEVENT
END:VCALENDAR